BEGIN:VCALENDAR
VERSION:2.0
PRODID: Ultiorganizer


BEGIN:VEVENT
SUMMARY:One Tribe-PUC
DESCRIPTION:Open: Placement Games 9-12
LOCATION: Padova 6
DTSTART;TZID=Europe/Rome:20260419T095500
DURATION: P85M
GEO:0.0000000000000;0.0000000000000
END:VEVENT

BEGIN:VEVENT
SUMMARY:360 UT MILAN-Jurassic Pack
DESCRIPTION:Open: Placement Games 9-12
LOCATION: Padova 7
DTSTART;TZID=Europe/Rome:20260419T095500
DURATION: P85M
GEO:0.0000000000000;0.0000000000000
END:VEVENT

BEGIN:VEVENT
SUMMARY:360 UT MILAN-PUC
DESCRIPTION:Open: Placement Games 9-12
LOCATION: Padova 2
DTSTART;TZID=Europe/Rome:20260419T124500
DURATION: P85M
GEO:0.0000000000000;0.0000000000000
END:VEVENT

BEGIN:VEVENT
SUMMARY:One Tribe-Jurassic Pack
DESCRIPTION:Open: Placement Games 9-12
LOCATION: Padova 7
DTSTART;TZID=Europe/Rome:20260419T124500
DURATION: P85M
GEO:0.0000000000000;0.0000000000000
END:VEVENT

BEGIN:VEVENT
SUMMARY:Jurassic Pack-PUC
DESCRIPTION:Open: Placement Games 9-12
LOCATION: Padova 3
DTSTART;TZID=Europe/Rome:20260419T153500
DURATION: P85M
GEO:0.0000000000000;0.0000000000000
END:VEVENT

BEGIN:VEVENT
SUMMARY:One Tribe-360 UT MILAN
DESCRIPTION:Open: Placement Games 9-12
LOCATION: Padova 6
DTSTART;TZID=Europe/Rome:20260419T153500
DURATION: P85M
GEO:0.0000000000000;0.0000000000000
END:VEVENT

END:VCALENDAR
