BEGIN:VCALENDAR
VERSION:2.0
PRODID: Ultiorganizer


BEGIN:VEVENT
SUMMARY:Heidees-ECHO
DESCRIPTION:Open: Pool D
LOCATION: Padova 5
DTSTART;TZID=Europe/Rome:20260418T090000
DURATION: P85M
GEO:0.0000000000000;0.0000000000000
END:VEVENT

BEGIN:VEVENT
SUMMARY:Heidees-Flying Angels Bern
DESCRIPTION:Open: Pool D
LOCATION: Padova 4
DTSTART;TZID=Europe/Rome:20260418T115000
DURATION: P85M
GEO:0.0000000000000;0.0000000000000
END:VEVENT

BEGIN:VEVENT
SUMMARY:Flying Angels Bern-ECHO
DESCRIPTION:Open: Pool D
LOCATION: Padova 4
DTSTART;TZID=Europe/Rome:20260418T144000
DURATION: P85M
GEO:0.0000000000000;0.0000000000000
END:VEVENT

END:VCALENDAR
