BEGIN:VCALENDAR
VERSION:2.0
PRODID: Ultiorganizer


BEGIN:VEVENT
SUMMARY:Bad Skid-Jurassic Pack
DESCRIPTION:Open: Pool C
LOCATION: Padova 8
DTSTART;TZID=Europe/Rome:20260418T090000
DURATION: P85M
GEO:0.0000000000000;0.0000000000000
END:VEVENT

BEGIN:VEVENT
SUMMARY:Bad Skid-Catchup
DESCRIPTION:Open: Pool C
LOCATION: Padova 7
DTSTART;TZID=Europe/Rome:20260418T115000
DURATION: P85M
GEO:0.0000000000000;0.0000000000000
END:VEVENT

BEGIN:VEVENT
SUMMARY:Catchup-Jurassic Pack
DESCRIPTION:Open: Pool C
LOCATION: Padova 8
DTSTART;TZID=Europe/Rome:20260418T144000
DURATION: P85M
GEO:0.0000000000000;0.0000000000000
END:VEVENT

END:VCALENDAR
