BEGIN:VCALENDAR
VERSION:2.0
PRODID: Ultiorganizer


BEGIN:VEVENT
SUMMARY:BFD La Fotta-360 UT MILAN
DESCRIPTION:Open: Pool A
LOCATION: Padova 6
DTSTART;TZID=Europe/Rome:20260418T090000
DURATION: P85M
GEO:0.0000000000000;0.0000000000000
END:VEVENT

BEGIN:VEVENT
SUMMARY:BFD La Fotta-Quijotes
DESCRIPTION:Open: Pool A
LOCATION: Padova 8
DTSTART;TZID=Europe/Rome:20260418T115000
DURATION: P85M
GEO:0.0000000000000;0.0000000000000
END:VEVENT

BEGIN:VEVENT
SUMMARY:Quijotes-360 UT MILAN
DESCRIPTION:Open: Pool A
LOCATION: Padova 5
DTSTART;TZID=Europe/Rome:20260418T144000
DURATION: P85M
GEO:0.0000000000000;0.0000000000000
END:VEVENT

END:VCALENDAR
