BEGIN:VCALENDAR
VERSION:2.0
PRODID: Ultiorganizer


BEGIN:VEVENT
SUMMARY:AIM-Outsiterz
DESCRIPTION:Open: Placement Games 3-5
LOCATION: Budweis 1
DTSTART;TZID=Europe/Paris:20260419T112000
DURATION: P85M
GEO:0.0000000000000;0.0000000000000
END:VEVENT

BEGIN:VEVENT
SUMMARY:AIM-Terrible Monkeys
DESCRIPTION:Open: Placement Games 3-5
LOCATION: Budweis 2
DTSTART;TZID=Europe/Paris:20260419T132000
DURATION: P85M
GEO:0.0000000000000;0.0000000000000
END:VEVENT

BEGIN:VEVENT
SUMMARY:Outsiterz-Terrible Monkeys
DESCRIPTION:Open: Placement Games 3-5
LOCATION: Budweis 2
DTSTART;TZID=Europe/Paris:20260419T152000
DURATION: P85M
GEO:0.0000000000000;0.0000000000000
END:VEVENT

END:VCALENDAR
