BEGIN:VCALENDAR
VERSION:2.0
PRODID: Ultiorganizer


BEGIN:VEVENT
SUMMARY:3SB-FUJ
DESCRIPTION:Open: 1st 
LOCATION: Budweis 1
DTSTART;TZID=Europe/Paris:20260419T124500
DURATION: P85M
GEO:0.0000000000000;0.0000000000000
END:VEVENT

END:VCALENDAR
