BEGIN:VCALENDAR
VERSION:2.0
PRODID: Ultiorganizer


BEGIN:VEVENT
SUMMARY:Terrible Monkeys-3SB
DESCRIPTION:Open: Pool A
LOCATION: Budweis 1
DTSTART;TZID=Europe/Paris:20260418T090000
DURATION: P85M
GEO:0.0000000000000;0.0000000000000
END:VEVENT

BEGIN:VEVENT
SUMMARY:FUJ-AIM
DESCRIPTION:Open: Pool A
LOCATION: Budweis 2
DTSTART;TZID=Europe/Paris:20260418T090000
DURATION: P85M
GEO:0.0000000000000;0.0000000000000
END:VEVENT

BEGIN:VEVENT
SUMMARY:Outsiterz-FUJ
DESCRIPTION:Open: Pool A
LOCATION: Budweis 1
DTSTART;TZID=Europe/Paris:20260418T115000
DURATION: P85M
GEO:0.0000000000000;0.0000000000000
END:VEVENT

BEGIN:VEVENT
SUMMARY:Terrible Monkeys-AIM
DESCRIPTION:Open: Pool A
LOCATION: Budweis 2
DTSTART;TZID=Europe/Paris:20260418T115000
DURATION: P85M
GEO:0.0000000000000;0.0000000000000
END:VEVENT

BEGIN:VEVENT
SUMMARY:Terrible Monkeys-FUJ
DESCRIPTION:Open: Pool A
LOCATION: Budweis 1
DTSTART;TZID=Europe/Paris:20260418T144000
DURATION: P85M
GEO:0.0000000000000;0.0000000000000
END:VEVENT

BEGIN:VEVENT
SUMMARY:Outsiterz-3SB
DESCRIPTION:Open: Pool A
LOCATION: Budweis 2
DTSTART;TZID=Europe/Paris:20260418T144000
DURATION: P85M
GEO:0.0000000000000;0.0000000000000
END:VEVENT

BEGIN:VEVENT
SUMMARY:Outsiterz-AIM
DESCRIPTION:Open: Pool A
LOCATION: Budweis 1
DTSTART;TZID=Europe/Paris:20260418T173000
DURATION: P85M
GEO:0.0000000000000;0.0000000000000
END:VEVENT

BEGIN:VEVENT
SUMMARY:3SB-FUJ
DESCRIPTION:Open: Pool A
LOCATION: Budweis 2
DTSTART;TZID=Europe/Paris:20260418T173000
DURATION: P85M
GEO:0.0000000000000;0.0000000000000
END:VEVENT

BEGIN:VEVENT
SUMMARY:Terrible Monkeys-Outsiterz
DESCRIPTION:Open: Pool A
LOCATION: Budweis 1
DTSTART;TZID=Europe/Paris:20260419T083000
DURATION: P85M
GEO:0.0000000000000;0.0000000000000
END:VEVENT

BEGIN:VEVENT
SUMMARY:3SB-AIM
DESCRIPTION:Open: Pool A
LOCATION: Budweis 2
DTSTART;TZID=Europe/Paris:20260419T083000
DURATION: P85M
GEO:0.0000000000000;0.0000000000000
END:VEVENT

END:VCALENDAR
