BEGIN:VCALENDAR
VERSION:2.0
PRODID: Ultiorganizer


BEGIN:VEVENT
SUMMARY:Smash'D-SOLENT Open
DESCRIPTION:Open: Pool G
LOCATION: Angers 2
DTSTART;TZID=Europe/Paris:20260419T083000
DURATION: P85M
GEO:0.0000000000000;0.0000000000000
END:VEVENT

BEGIN:VEVENT
SUMMARY:Roazhon Ultimate-SOLENT Open
DESCRIPTION:Open: Pool G
LOCATION: Angers 1
DTSTART;TZID=Europe/Paris:20260419T112000
DURATION: P85M
GEO:0.0000000000000;0.0000000000000
END:VEVENT

BEGIN:VEVENT
SUMMARY:Smash'D-Roazhon Ultimate
DESCRIPTION:Open: Pool G
LOCATION: Angers 2
DTSTART;TZID=Europe/Paris:20260419T141000
DURATION: P85M
GEO:0.0000000000000;0.0000000000000
END:VEVENT

END:VCALENDAR
