BEGIN:VCALENDAR
VERSION:2.0
PRODID: Ultiorganizer


BEGIN:VEVENT
SUMMARY:MAGIC DISC ANGERS-Ka-Pow!
DESCRIPTION:Open: Pool F
LOCATION: Angers 1
DTSTART;TZID=Europe/Paris:20260419T083000
DURATION: P85M
GEO:0.0000000000000;0.0000000000000
END:VEVENT

BEGIN:VEVENT
SUMMARY:UFO-Ka-Pow!
DESCRIPTION:Open: Pool F
LOCATION: Angers 2
DTSTART;TZID=Europe/Paris:20260419T112000
DURATION: P85M
GEO:0.0000000000000;0.0000000000000
END:VEVENT

BEGIN:VEVENT
SUMMARY:MAGIC DISC ANGERS-UFO
DESCRIPTION:Open: Pool F
LOCATION: Angers 1
DTSTART;TZID=Europe/Paris:20260419T141000
DURATION: P85M
GEO:0.0000000000000;0.0000000000000
END:VEVENT

END:VCALENDAR
