BEGIN:VCALENDAR
VERSION:2.0
PRODID: Ultiorganizer


BEGIN:VEVENT
SUMMARY:SMOG-Ranelagh
DESCRIPTION:Open: Pool E
LOCATION: Angers 1
DTSTART;TZID=Europe/Paris:20260419T095500
DURATION: P85M
GEO:0.0000000000000;0.0000000000000
END:VEVENT

BEGIN:VEVENT
SUMMARY:Ratrac Bern Ultimate-Ranelagh
DESCRIPTION:Open: Pool E
LOCATION: Angers 2
DTSTART;TZID=Europe/Paris:20260419T124500
DURATION: P85M
GEO:0.0000000000000;0.0000000000000
END:VEVENT

BEGIN:VEVENT
SUMMARY:SMOG-Ratrac Bern Ultimate
DESCRIPTION:Open: Pool E
LOCATION: Angers 2
DTSTART;TZID=Europe/Paris:20260419T153500
DURATION: P85M
GEO:0.0000000000000;0.0000000000000
END:VEVENT

END:VCALENDAR
