BEGIN:VCALENDAR
VERSION:2.0
PRODID: Ultiorganizer


BEGIN:VEVENT
SUMMARY:Ranelagh-Ka-Pow!
DESCRIPTION:Open: Pool C
LOCATION: Angers 2
DTSTART;TZID=Europe/Paris:20260418T102500
DURATION: P85M
GEO:0.0000000000000;0.0000000000000
END:VEVENT

BEGIN:VEVENT
SUMMARY:Tchac-SOLENT Open
DESCRIPTION:Open: Pool C
LOCATION: Angers 3
DTSTART;TZID=Europe/Paris:20260418T102500
DURATION: P85M
GEO:0.0000000000000;0.0000000000000
END:VEVENT

BEGIN:VEVENT
SUMMARY:Ranelagh-SOLENT Open
DESCRIPTION:Open: Pool C
LOCATION: Angers 1
DTSTART;TZID=Europe/Paris:20260418T131500
DURATION: P85M
GEO:0.0000000000000;0.0000000000000
END:VEVENT

BEGIN:VEVENT
SUMMARY:Tchac-Ka-Pow!
DESCRIPTION:Open: Pool C
LOCATION: Angers 2
DTSTART;TZID=Europe/Paris:20260418T131500
DURATION: P85M
GEO:0.0000000000000;0.0000000000000
END:VEVENT

BEGIN:VEVENT
SUMMARY:Tchac-Ranelagh
DESCRIPTION:Open: Pool C
LOCATION: Angers 1
DTSTART;TZID=Europe/Paris:20260418T160500
DURATION: P85M
GEO:0.0000000000000;0.0000000000000
END:VEVENT

BEGIN:VEVENT
SUMMARY:Ka-Pow!-SOLENT Open
DESCRIPTION:Open: Pool C
LOCATION: Angers 2
DTSTART;TZID=Europe/Paris:20260418T160500
DURATION: P85M
GEO:0.0000000000000;0.0000000000000
END:VEVENT

END:VCALENDAR
