BEGIN:VCALENDAR
VERSION:2.0
PRODID: Ultiorganizer


BEGIN:VEVENT
SUMMARY:Gentle-Roazhon Ultimate
DESCRIPTION:Open: Pool B
LOCATION: Angers 1
DTSTART;TZID=Europe/Paris:20260418T090000
DURATION: P85M
GEO:0.0000000000000;0.0000000000000
END:VEVENT

BEGIN:VEVENT
SUMMARY:Ratrac Bern Ultimate-UFO
DESCRIPTION:Open: Pool B
LOCATION: Angers 1
DTSTART;TZID=Europe/Paris:20260418T102500
DURATION: P85M
GEO:0.0000000000000;0.0000000000000
END:VEVENT

BEGIN:VEVENT
SUMMARY:Ratrac Bern Ultimate-Roazhon Ultimate
DESCRIPTION:Open: Pool B
LOCATION: Angers 3
DTSTART;TZID=Europe/Paris:20260418T115000
DURATION: P85M
GEO:0.0000000000000;0.0000000000000
END:VEVENT

BEGIN:VEVENT
SUMMARY:Gentle-UFO
DESCRIPTION:Open: Pool B
LOCATION: Angers 3
DTSTART;TZID=Europe/Paris:20260418T131500
DURATION: P85M
GEO:0.0000000000000;0.0000000000000
END:VEVENT

BEGIN:VEVENT
SUMMARY:Gentle-Ratrac Bern Ultimate
DESCRIPTION:Open: Pool B
LOCATION: Angers 1
DTSTART;TZID=Europe/Paris:20260418T173000
DURATION: P85M
GEO:0.0000000000000;0.0000000000000
END:VEVENT

BEGIN:VEVENT
SUMMARY:UFO-Roazhon Ultimate
DESCRIPTION:Open: Pool B
LOCATION: Angers 2
DTSTART;TZID=Europe/Paris:20260418T173000
DURATION: P85M
GEO:0.0000000000000;0.0000000000000
END:VEVENT

END:VCALENDAR
