BEGIN:VCALENDAR
VERSION:2.0
PRODID: Ultiorganizer


BEGIN:VEVENT
SUMMARY:SMOG-Smash'D
DESCRIPTION:Open: Pool A
LOCATION: Angers 2
DTSTART;TZID=Europe/Paris:20260418T090000
DURATION: P85M
GEO:0.0000000000000;0.0000000000000
END:VEVENT

BEGIN:VEVENT
SUMMARY:NLSU Iznogood-MAGIC DISC ANGERS
DESCRIPTION:Open: Pool A
LOCATION: Angers 3
DTSTART;TZID=Europe/Paris:20260418T090000
DURATION: P85M
GEO:0.0000000000000;0.0000000000000
END:VEVENT

BEGIN:VEVENT
SUMMARY:SMOG-MAGIC DISC ANGERS
DESCRIPTION:Open: Pool A
LOCATION: Angers 1
DTSTART;TZID=Europe/Paris:20260418T115000
DURATION: P85M
GEO:0.0000000000000;0.0000000000000
END:VEVENT

BEGIN:VEVENT
SUMMARY:NLSU Iznogood-Smash'D
DESCRIPTION:Open: Pool A
LOCATION: Angers 2
DTSTART;TZID=Europe/Paris:20260418T115000
DURATION: P85M
GEO:0.0000000000000;0.0000000000000
END:VEVENT

BEGIN:VEVENT
SUMMARY:NLSU Iznogood-SMOG
DESCRIPTION:Open: Pool A
LOCATION: Angers 1
DTSTART;TZID=Europe/Paris:20260418T144000
DURATION: P85M
GEO:0.0000000000000;0.0000000000000
END:VEVENT

BEGIN:VEVENT
SUMMARY:Smash'D-MAGIC DISC ANGERS
DESCRIPTION:Open: Pool A
LOCATION: Angers 2
DTSTART;TZID=Europe/Paris:20260418T144000
DURATION: P85M
GEO:0.0000000000000;0.0000000000000
END:VEVENT

END:VCALENDAR
