BEGIN:VCALENDAR
VERSION:2.0
PRODID: Ultiorganizer


BEGIN:VEVENT
SUMMARY:OUT-Fatih
DESCRIPTION:Mixed: Pool H
LOCATION: Padova 1
DTSTART;TZID=Europe/Rome:20260419T083000
DURATION: P85M
GEO:0.0000000000000;0.0000000000000
END:VEVENT

BEGIN:VEVENT
SUMMARY:Wiener Mischung-DEAC-LoL
DESCRIPTION:Mixed: Pool H
LOCATION: Padova 7
DTSTART;TZID=Europe/Rome:20260419T083000
DURATION: P85M
GEO:0.0000000000000;0.0000000000000
END:VEVENT

BEGIN:VEVENT
SUMMARY:Fatih-DEAC-LoL
DESCRIPTION:Mixed: Pool H
LOCATION: Padova 3
DTSTART;TZID=Europe/Rome:20260419T112000
DURATION: P85M
GEO:0.0000000000000;0.0000000000000
END:VEVENT

BEGIN:VEVENT
SUMMARY:Wiener Mischung-OUT
DESCRIPTION:Mixed: Pool H
LOCATION: Padova 7
DTSTART;TZID=Europe/Rome:20260419T112000
DURATION: P85M
GEO:0.0000000000000;0.0000000000000
END:VEVENT

BEGIN:VEVENT
SUMMARY:OUT-DEAC-LoL
DESCRIPTION:Mixed: Pool H
LOCATION: Padova 2
DTSTART;TZID=Europe/Rome:20260419T141000
DURATION: P85M
GEO:0.0000000000000;0.0000000000000
END:VEVENT

BEGIN:VEVENT
SUMMARY:Wiener Mischung-Fatih
DESCRIPTION:Mixed: Pool H
LOCATION: Padova 7
DTSTART;TZID=Europe/Rome:20260419T141000
DURATION: P85M
GEO:0.0000000000000;0.0000000000000
END:VEVENT

END:VCALENDAR
