BEGIN:VCALENDAR
VERSION:2.0
PRODID: Ultiorganizer


BEGIN:VEVENT
SUMMARY:Heck-Rubber Duckies
DESCRIPTION:Mixed: Pool G
LOCATION: Padova 2
DTSTART;TZID=Europe/Rome:20260419T083000
DURATION: P85M
GEO:0.0000000000000;0.0000000000000
END:VEVENT

BEGIN:VEVENT
SUMMARY:Leamington Lemmings-Left Overs
DESCRIPTION:Mixed: Pool G
LOCATION: Padova 3
DTSTART;TZID=Europe/Rome:20260419T083000
DURATION: P85M
GEO:0.0000000000000;0.0000000000000
END:VEVENT

BEGIN:VEVENT
SUMMARY:Heck-Left Overs
DESCRIPTION:Mixed: Pool G
LOCATION: Padova 1
DTSTART;TZID=Europe/Rome:20260419T112000
DURATION: P85M
GEO:0.0000000000000;0.0000000000000
END:VEVENT

BEGIN:VEVENT
SUMMARY:Leamington Lemmings-Rubber Duckies
DESCRIPTION:Mixed: Pool G
LOCATION: Padova 6
DTSTART;TZID=Europe/Rome:20260419T112000
DURATION: P85M
GEO:0.0000000000000;0.0000000000000
END:VEVENT

BEGIN:VEVENT
SUMMARY:Heck-Leamington Lemmings
DESCRIPTION:Mixed: Pool G
LOCATION: Padova 3
DTSTART;TZID=Europe/Rome:20260419T141000
DURATION: P85M
GEO:0.0000000000000;0.0000000000000
END:VEVENT

BEGIN:VEVENT
SUMMARY:Left Overs-Rubber Duckies
DESCRIPTION:Mixed: Pool G
LOCATION: Padova 6
DTSTART;TZID=Europe/Rome:20260419T141000
DURATION: P85M
GEO:0.0000000000000;0.0000000000000
END:VEVENT

END:VCALENDAR
