BEGIN:VCALENDAR
VERSION:2.0
PRODID: Ultiorganizer


BEGIN:VEVENT
SUMMARY:ZU Splash-Savage Ultimate
DESCRIPTION:Mixed: Pool F
LOCATION: Padova 5
DTSTART;TZID=Europe/Rome:20260419T083000
DURATION: P85M
GEO:0.0000000000000;0.0000000000000
END:VEVENT

BEGIN:VEVENT
SUMMARY:BFD Redshot-Zamperl
DESCRIPTION:Mixed: Pool F
LOCATION: Padova 8
DTSTART;TZID=Europe/Rome:20260419T083000
DURATION: P85M
GEO:0.0000000000000;0.0000000000000
END:VEVENT

BEGIN:VEVENT
SUMMARY:BFD Redshot-Savage Ultimate
DESCRIPTION:Mixed: Pool F
LOCATION: Padova 5
DTSTART;TZID=Europe/Rome:20260419T112000
DURATION: P85M
GEO:0.0000000000000;0.0000000000000
END:VEVENT

BEGIN:VEVENT
SUMMARY:ZU Splash-Zamperl
DESCRIPTION:Mixed: Pool F
LOCATION: Padova 8
DTSTART;TZID=Europe/Rome:20260419T112000
DURATION: P85M
GEO:0.0000000000000;0.0000000000000
END:VEVENT

BEGIN:VEVENT
SUMMARY:ZU Splash-BFD Redshot
DESCRIPTION:Mixed: Pool F
LOCATION: Padova 1
DTSTART;TZID=Europe/Rome:20260419T141000
DURATION: P85M
GEO:0.0000000000000;0.0000000000000
END:VEVENT

BEGIN:VEVENT
SUMMARY:Zamperl-Savage Ultimate
DESCRIPTION:Mixed: Pool F
LOCATION: Padova 8
DTSTART;TZID=Europe/Rome:20260419T141000
DURATION: P85M
GEO:0.0000000000000;0.0000000000000
END:VEVENT

END:VCALENDAR
