BEGIN:VCALENDAR
VERSION:2.0
PRODID: Ultiorganizer


BEGIN:VEVENT
SUMMARY:Deep Space-Tiefseetaucher
DESCRIPTION:Mixed: Pool E
LOCATION: Padova 4
DTSTART;TZID=Europe/Rome:20260419T083000
DURATION: P85M
GEO:0.0000000000000;0.0000000000000
END:VEVENT

BEGIN:VEVENT
SUMMARY:Mosquitos-Cus Padova Rangərs
DESCRIPTION:Mixed: Pool E
LOCATION: Padova 6
DTSTART;TZID=Europe/Rome:20260419T083000
DURATION: P85M
GEO:0.0000000000000;0.0000000000000
END:VEVENT

BEGIN:VEVENT
SUMMARY:Mosquitos-Tiefseetaucher
DESCRIPTION:Mixed: Pool E
LOCATION: Padova 2
DTSTART;TZID=Europe/Rome:20260419T112000
DURATION: P85M
GEO:0.0000000000000;0.0000000000000
END:VEVENT

BEGIN:VEVENT
SUMMARY:Deep Space-Cus Padova Rangərs
DESCRIPTION:Mixed: Pool E
LOCATION: Padova 4
DTSTART;TZID=Europe/Rome:20260419T112000
DURATION: P85M
GEO:0.0000000000000;0.0000000000000
END:VEVENT

BEGIN:VEVENT
SUMMARY:Tiefseetaucher-Cus Padova Rangərs
DESCRIPTION:Mixed: Pool E
LOCATION: Padova 4
DTSTART;TZID=Europe/Rome:20260419T141000
DURATION: P85M
GEO:0.0000000000000;0.0000000000000
END:VEVENT

BEGIN:VEVENT
SUMMARY:Mosquitos-Deep Space
DESCRIPTION:Mixed: Pool E
LOCATION: Padova 5
DTSTART;TZID=Europe/Rome:20260419T141000
DURATION: P85M
GEO:0.0000000000000;0.0000000000000
END:VEVENT

END:VCALENDAR
