BEGIN:VCALENDAR
VERSION:2.0
PRODID: Ultiorganizer


BEGIN:VEVENT
SUMMARY:Savage Ultimate-DEAC-LoL
DESCRIPTION:Mixed: Pool D
LOCATION: Padova 6
DTSTART;TZID=Europe/Rome:20260418T102500
DURATION: P85M
GEO:0.0000000000000;0.0000000000000
END:VEVENT

BEGIN:VEVENT
SUMMARY:Cus Padova Rangərs-Rubber Duckies
DESCRIPTION:Mixed: Pool D
LOCATION: Padova 7
DTSTART;TZID=Europe/Rome:20260418T102500
DURATION: P85M
GEO:0.0000000000000;0.0000000000000
END:VEVENT

BEGIN:VEVENT
SUMMARY:Cus Padova Rangərs-DEAC-LoL
DESCRIPTION:Mixed: Pool D
LOCATION: Padova 3
DTSTART;TZID=Europe/Rome:20260418T131500
DURATION: P85M
GEO:0.0000000000000;0.0000000000000
END:VEVENT

BEGIN:VEVENT
SUMMARY:Savage Ultimate-Rubber Duckies
DESCRIPTION:Mixed: Pool D
LOCATION: Padova 5
DTSTART;TZID=Europe/Rome:20260418T131500
DURATION: P85M
GEO:0.0000000000000;0.0000000000000
END:VEVENT

BEGIN:VEVENT
SUMMARY:Cus Padova Rangərs-Savage Ultimate
DESCRIPTION:Mixed: Pool D
LOCATION: Padova 5
DTSTART;TZID=Europe/Rome:20260418T160500
DURATION: P85M
GEO:0.0000000000000;0.0000000000000
END:VEVENT

BEGIN:VEVENT
SUMMARY:DEAC-LoL-Rubber Duckies
DESCRIPTION:Mixed: Pool D
LOCATION: Padova 8
DTSTART;TZID=Europe/Rome:20260418T160500
DURATION: P85M
GEO:0.0000000000000;0.0000000000000
END:VEVENT

END:VCALENDAR
