BEGIN:VCALENDAR
VERSION:2.0
PRODID: Ultiorganizer


BEGIN:VEVENT
SUMMARY:Left Overs-Fatih
DESCRIPTION:Mixed: Pool C
LOCATION: Padova 2
DTSTART;TZID=Europe/Rome:20260418T102500
DURATION: P85M
GEO:0.0000000000000;0.0000000000000
END:VEVENT

BEGIN:VEVENT
SUMMARY:Tiefseetaucher-Zamperl
DESCRIPTION:Mixed: Pool C
LOCATION: Padova 5
DTSTART;TZID=Europe/Rome:20260418T102500
DURATION: P85M
GEO:0.0000000000000;0.0000000000000
END:VEVENT

BEGIN:VEVENT
SUMMARY:Left Overs-Zamperl
DESCRIPTION:Mixed: Pool C
LOCATION: Padova 4
DTSTART;TZID=Europe/Rome:20260418T131500
DURATION: P85M
GEO:0.0000000000000;0.0000000000000
END:VEVENT

BEGIN:VEVENT
SUMMARY:Tiefseetaucher-Fatih
DESCRIPTION:Mixed: Pool C
LOCATION: Padova 7
DTSTART;TZID=Europe/Rome:20260418T131500
DURATION: P85M
GEO:0.0000000000000;0.0000000000000
END:VEVENT

BEGIN:VEVENT
SUMMARY:Fatih-Zamperl
DESCRIPTION:Mixed: Pool C
LOCATION: Padova 2
DTSTART;TZID=Europe/Rome:20260418T160500
DURATION: P85M
GEO:0.0000000000000;0.0000000000000
END:VEVENT

BEGIN:VEVENT
SUMMARY:Tiefseetaucher-Left Overs
DESCRIPTION:Mixed: Pool C
LOCATION: Padova 4
DTSTART;TZID=Europe/Rome:20260418T160500
DURATION: P85M
GEO:0.0000000000000;0.0000000000000
END:VEVENT

END:VCALENDAR
