BEGIN:VCALENDAR
VERSION:2.0
PRODID: Ultiorganizer


BEGIN:VEVENT
SUMMARY:Deep Space-BFD Redshot
DESCRIPTION:Mixed: Pool B
LOCATION: Padova 3
DTSTART;TZID=Europe/Rome:20260418T102500
DURATION: P85M
GEO:0.0000000000000;0.0000000000000
END:VEVENT

BEGIN:VEVENT
SUMMARY:Leamington Lemmings-OUT
DESCRIPTION:Mixed: Pool B
LOCATION: Padova 8
DTSTART;TZID=Europe/Rome:20260418T102500
DURATION: P85M
GEO:0.0000000000000;0.0000000000000
END:VEVENT

BEGIN:VEVENT
SUMMARY:Deep Space-OUT
DESCRIPTION:Mixed: Pool B
LOCATION: Padova 1
DTSTART;TZID=Europe/Rome:20260418T131500
DURATION: P85M
GEO:0.0000000000000;0.0000000000000
END:VEVENT

BEGIN:VEVENT
SUMMARY:Leamington Lemmings-BFD Redshot
DESCRIPTION:Mixed: Pool B
LOCATION: Padova 6
DTSTART;TZID=Europe/Rome:20260418T131500
DURATION: P85M
GEO:0.0000000000000;0.0000000000000
END:VEVENT

BEGIN:VEVENT
SUMMARY:Deep Space-Leamington Lemmings
DESCRIPTION:Mixed: Pool B
LOCATION: Padova 6
DTSTART;TZID=Europe/Rome:20260418T160500
DURATION: P85M
GEO:0.0000000000000;0.0000000000000
END:VEVENT

BEGIN:VEVENT
SUMMARY:OUT-BFD Redshot
DESCRIPTION:Mixed: Pool B
LOCATION: Padova 7
DTSTART;TZID=Europe/Rome:20260418T160500
DURATION: P85M
GEO:0.0000000000000;0.0000000000000
END:VEVENT

END:VCALENDAR
