BEGIN:VCALENDAR
VERSION:2.0
PRODID: Ultiorganizer


BEGIN:VEVENT
SUMMARY:Mosquitos-Wiener Mischung
DESCRIPTION:Mixed: Pool A
LOCATION: Padova 1
DTSTART;TZID=Europe/Rome:20260418T102500
DURATION: P85M
GEO:0.0000000000000;0.0000000000000
END:VEVENT

BEGIN:VEVENT
SUMMARY:ZU Splash-Heck
DESCRIPTION:Mixed: Pool A
LOCATION: Padova 4
DTSTART;TZID=Europe/Rome:20260418T102500
DURATION: P85M
GEO:0.0000000000000;0.0000000000000
END:VEVENT

BEGIN:VEVENT
SUMMARY:ZU Splash-Wiener Mischung
DESCRIPTION:Mixed: Pool A
LOCATION: Padova 2
DTSTART;TZID=Europe/Rome:20260418T131500
DURATION: P85M
GEO:0.0000000000000;0.0000000000000
END:VEVENT

BEGIN:VEVENT
SUMMARY:Mosquitos-Heck
DESCRIPTION:Mixed: Pool A
LOCATION: Padova 8
DTSTART;TZID=Europe/Rome:20260418T131500
DURATION: P85M
GEO:0.0000000000000;0.0000000000000
END:VEVENT

BEGIN:VEVENT
SUMMARY:Heck-Wiener Mischung
DESCRIPTION:Mixed: Pool A
LOCATION: Padova 1
DTSTART;TZID=Europe/Rome:20260418T160500
DURATION: P85M
GEO:0.0000000000000;0.0000000000000
END:VEVENT

BEGIN:VEVENT
SUMMARY:Mosquitos-ZU Splash
DESCRIPTION:Mixed: Pool A
LOCATION: Padova 3
DTSTART;TZID=Europe/Rome:20260418T160500
DURATION: P85M
GEO:0.0000000000000;0.0000000000000
END:VEVENT

END:VCALENDAR
